BEGIN:VCALENDAR
VERSION:2.0
PRODID:City of Santa Clara Calendar Creator
METHOD:PUBLISH
BEGIN:VEVENT
DTSTAMP:20260417T160736
DTSTART:20260418T000000
DTEND:20260418T235900
SUMMARY:Santa Clara Spring Citywide Garage Sale
DESCRIPTION:<p><p style="text-align: left;"><div></div></p></p><p><strong>The Santa Clara Spring Citywide Garage Sale is tomorrow Saturday, April 18, 2026! </strong></p><p>Don’t miss the opportunity to go on an epic treasure hunt throughout Santa Clara. With nearly 100 homes participating, there are sure to be some amazing finds! </p><p>Download a list of participating homes and view our interactive map to plan your route by visiting the <a href="https://santa-clara.prod-as.govaccess.org/our-city/departments-g-z/public-works/environmental-programs/community-events-volunteer-opportunities">Community Events and Volunteer Opportunities</a> page under "Citywide Garage Sale" </p><p>Questions? Email <a href="mailto:Environment@SantaClaraCA.gov" link__16mae970="" link_variant_primary__16mae971="" baselink__kjvg671"="" data-block="18" data-app="2">Environment@SantaClaraCA.gov</a> or call<div data-block="18" data-pressed="false" role="button" tabindex="0" data-touchable="[object Object]" touchable__1e74q6p0="" baselink__kjvg670="" link__16mae970="" link_variant_unstyled__16mae973="" baselink__kjvg671="" reset__1m5uu6e0="" styled__zpop7ke5"="">408-615-3080</div><strong><div data-block="18" data-pressed="false" role="button" tabindex="0" data-touchable="[object Object]" touchable__1e74q6p0="" baselink__kjvg670="" link__16mae970="" link_variant_unstyled__16mae973="" baselink__kjvg671="" reset__1m5uu6e0="" styled__zpop7ke5"=""></div>.</strong></p>
X-ALT-DESC;FMTTYPE=text/html:<p><p style="text-align: left;"><div></div></p></p><p><strong>The Santa Clara Spring Citywide Garage Sale is tomorrow Saturday, April 18, 2026! </strong></p><p>Don’t miss the opportunity to go on an epic treasure hunt throughout Santa Clara. With nearly 100 homes participating, there are sure to be some amazing finds! </p><p>Download a list of participating homes and view our interactive map to plan your route by visiting the <a href="https://santa-clara.prod-as.govaccess.org/our-city/departments-g-z/public-works/environmental-programs/community-events-volunteer-opportunities">Community Events and Volunteer Opportunities</a> page under "Citywide Garage Sale" </p><p>Questions? Email <a href="mailto:Environment@SantaClaraCA.gov" link__16mae970="" link_variant_primary__16mae971="" baselink__kjvg671"="" data-block="18" data-app="2">Environment@SantaClaraCA.gov</a> or call<div data-block="18" data-pressed="false" role="button" tabindex="0" data-touchable="[object Object]" touchable__1e74q6p0="" baselink__kjvg670="" link__16mae970="" link_variant_unstyled__16mae973="" baselink__kjvg671="" reset__1m5uu6e0="" styled__zpop7ke5"="">408-615-3080</div><strong><div data-block="18" data-pressed="false" role="button" tabindex="0" data-touchable="[object Object]" touchable__1e74q6p0="" baselink__kjvg670="" link__16mae970="" link_variant_unstyled__16mae973="" baselink__kjvg671="" reset__1m5uu6e0="" styled__zpop7ke5"=""></div>.</strong></p>
LOCATION:
CLASS:PUBLIC
END:VEVENT
END:VCALENDAR
